BEGIN:VCALENDAR
VERSION:2.0
PRODID:-//Marktgemeinde Brunn am Gebirge - ECPv6.1.2.2//NONSGML v1.0//EN
CALSCALE:GREGORIAN
METHOD:PUBLISH
X-WR-CALNAME:Marktgemeinde Brunn am Gebirge
X-ORIGINAL-URL:https://www.brunnamgebirge.at
X-WR-CALDESC:Veranstaltungen für Marktgemeinde Brunn am Gebirge
REFRESH-INTERVAL;VALUE=DURATION:PT1H
X-Robots-Tag:noindex
X-PUBLISHED-TTL:PT1H
BEGIN:VTIMEZONE
TZID:Europe/Berlin
BEGIN:DAYLIGHT
TZOFFSETFROM:+0100
TZOFFSETTO:+0200
TZNAME:CEST
DTSTART:20250330T010000
END:DAYLIGHT
BEGIN:STANDARD
TZOFFSETFROM:+0200
TZOFFSETTO:+0100
TZNAME:CET
DTSTART:20251026T010000
END:STANDARD
BEGIN:DAYLIGHT
TZOFFSETFROM:+0100
TZOFFSETTO:+0200
TZNAME:CEST
DTSTART:20260329T010000
END:DAYLIGHT
BEGIN:STANDARD
TZOFFSETFROM:+0200
TZOFFSETTO:+0100
TZNAME:CET
DTSTART:20261025T010000
END:STANDARD
END:VTIMEZONE
BEGIN:VEVENT
DTSTART;TZID=Europe/Berlin:20250115T160000
DTEND;TZID=Europe/Berlin:20250115T180000
DTSTAMP:20260421T115012
CREATED:20240820T065130Z
LAST-MODIFIED:20240820T065130Z
UID:10002240-1736956800-1736964000@www.brunnamgebirge.at
SUMMARY:Vienna Business School "Informationsausstellung für Neu-Interessierte"
DESCRIPTION:NEUHEIT\nZusätzlicher Schulzweig JusHAK – Handelsakademie Wirtschaft und Recht\nwww.jushak.at
URL:https://www.brunnamgebirge.at/veranstaltung/vienna-business-school-informationsausstellung-fuer-neu-interessierte/
LOCATION:Vienna Business School-HAK/HAS Mödling\, Maria Theresien-Gasse 25\, Mödling\, Niederösterreich\, 2340\, Österreich
CATEGORIES:Privat
ATTACH;FMTTYPE=image/jpeg:https://www.brunnamgebirge.at/wp-content/uploads/2021/09/VBS.jpg
ORGANIZER;CN="Vienna%20Business%20School-HAK%2FHAS%20M%C3%B6dling":MAILTO:moedling@vbs.ac.at
END:VEVENT
BEGIN:VEVENT
DTSTART;TZID=Europe/Berlin:20250123T080000
DTEND;TZID=Europe/Berlin:20250123T120000
DTSTAMP:20260421T115012
CREATED:20240820T065352Z
LAST-MODIFIED:20240820T065352Z
UID:10002241-1737619200-1737633600@www.brunnamgebirge.at
SUMMARY:Vienna Business School "Tag der offenen Klassentüre"
DESCRIPTION:Zusätzlicher Schulzweig JusHAK – Handelsakademie Wirtschaft und Recht\nwww.jushak.at
URL:https://www.brunnamgebirge.at/veranstaltung/vienna-business-school-tag-der-offenen-klassentuere/
LOCATION:Vienna Business School-HAK/HAS Mödling\, Maria Theresien-Gasse 25\, Mödling\, Niederösterreich\, 2340\, Österreich
CATEGORIES:Privat
ATTACH;FMTTYPE=image/jpeg:https://www.brunnamgebirge.at/wp-content/uploads/2021/09/VBS.jpg
ORGANIZER;CN="Vienna%20Business%20School-HAK%2FHAS%20M%C3%B6dling":MAILTO:moedling@vbs.ac.at
END:VEVENT
BEGIN:VEVENT
DTSTART;TZID=Europe/Berlin:20251107T133000
DTEND;TZID=Europe/Berlin:20251107T173000
DTSTAMP:20260421T115012
CREATED:20250826T055945Z
LAST-MODIFIED:20250826T055945Z
UID:10003680-1762522200-1762536600@www.brunnamgebirge.at
SUMMARY:Tag der offenen Tür an der Vienna Business School-HAK/HAS Mödling
DESCRIPTION:Auch heuer veranstaltet die Vienna Business School-HAK/HAS Mödling wieder einen „Tag der offenen Tür“ zum „Reinschnuppern“ und Kennenlernen.
URL:https://www.brunnamgebirge.at/veranstaltung/tag-der-offenen-tuer-an-der-vienna-business-school-hak-has-moedling/
LOCATION:Vienna Business School-HAK/HAS Mödling\, Maria Theresien-Gasse 25\, Mödling\, Niederösterreich\, 2340\, Österreich
CATEGORIES:Privat
ATTACH;FMTTYPE=image/jpeg:https://www.brunnamgebirge.at/wp-content/uploads/2021/09/VBS.jpg
ORGANIZER;CN="Vienna%20Business%20School-HAK%2FHAS%20M%C3%B6dling":MAILTO:moedling@vbs.ac.at
END:VEVENT
BEGIN:VEVENT
DTSTART;TZID=Europe/Berlin:20251108T083000
DTEND;TZID=Europe/Berlin:20251108T123000
DTSTAMP:20260421T115012
CREATED:20250826T060102Z
LAST-MODIFIED:20250826T060102Z
UID:10003681-1762590600-1762605000@www.brunnamgebirge.at
SUMMARY:Tag der offenen Tür an der Vienna Business School-HAK/HAS Mödling
DESCRIPTION:Auch heuer veranstaltet die Vienna Business School-HAK/HAS Mödling wieder einen „Tag der offenen Tür“ zum „Reinschnuppern“ und Kennenlernen.
URL:https://www.brunnamgebirge.at/veranstaltung/tag-der-offenen-tuer-an-der-vienna-business-school-hak-has-moedling-2/
LOCATION:Vienna Business School-HAK/HAS Mödling\, Maria Theresien-Gasse 25\, Mödling\, Niederösterreich\, 2340\, Österreich
CATEGORIES:Privat
ATTACH;FMTTYPE=image/jpeg:https://www.brunnamgebirge.at/wp-content/uploads/2021/09/VBS.jpg
ORGANIZER;CN="Vienna%20Business%20School-HAK%2FHAS%20M%C3%B6dling":MAILTO:moedling@vbs.ac.at
END:VEVENT
BEGIN:VEVENT
DTSTART;TZID=Europe/Berlin:20260114T160000
DTEND;TZID=Europe/Berlin:20260114T180000
DTSTAMP:20260421T115012
CREATED:20250826T060716Z
LAST-MODIFIED:20250826T060716Z
UID:10003682-1768406400-1768413600@www.brunnamgebirge.at
SUMMARY:Informationsausstellung für Neu-Interessierte an der Vienna Business School-HAK/HAS Mödling
DESCRIPTION:Verschaffe dir einen Eindruck von unserer Schule!
URL:https://www.brunnamgebirge.at/veranstaltung/informationsausstellung-fuer-neu-interessierte-an-der-vienna-business-school-hak-has-moedling/
LOCATION:Vienna Business School-HAK/HAS Mödling\, Maria Theresien-Gasse 25\, Mödling\, Niederösterreich\, 2340\, Österreich
CATEGORIES:Privat
ATTACH;FMTTYPE=image/jpeg:https://www.brunnamgebirge.at/wp-content/uploads/2021/09/VBS.jpg
ORGANIZER;CN="Vienna%20Business%20School-HAK%2FHAS%20M%C3%B6dling":MAILTO:moedling@vbs.ac.at
END:VEVENT
BEGIN:VEVENT
DTSTART;TZID=Europe/Berlin:20260122T080000
DTEND;TZID=Europe/Berlin:20260122T120000
DTSTAMP:20260421T115012
CREATED:20250826T060822Z
LAST-MODIFIED:20250826T060822Z
UID:10003683-1769068800-1769083200@www.brunnamgebirge.at
SUMMARY:Tag der offenen Klassentüre an der Vienna Business School-HAK/HAS Mödling
DESCRIPTION:Verschaffe dir einen Eindruck von unserer Schule!
URL:https://www.brunnamgebirge.at/veranstaltung/tag-der-offenen-klassentuere-an-der-vienna-business-school-hak-has-moedling/
LOCATION:Vienna Business School-HAK/HAS Mödling\, Maria Theresien-Gasse 25\, Mödling\, Niederösterreich\, 2340\, Österreich
CATEGORIES:Privat
ATTACH;FMTTYPE=image/jpeg:https://www.brunnamgebirge.at/wp-content/uploads/2021/09/VBS.jpg
ORGANIZER;CN="Vienna%20Business%20School-HAK%2FHAS%20M%C3%B6dling":MAILTO:moedling@vbs.ac.at
END:VEVENT
END:VCALENDAR