BEGIN:VCALENDAR
VERSION:2.0
PRODID:-//Marktgemeinde Brunn am Gebirge - ECPv6.1.2.2//NONSGML v1.0//EN
CALSCALE:GREGORIAN
METHOD:PUBLISH
X-ORIGINAL-URL:https://www.brunnamgebirge.at
X-WR-CALDESC:Veranstaltungen für Marktgemeinde Brunn am Gebirge
REFRESH-INTERVAL;VALUE=DURATION:PT1H
X-Robots-Tag:noindex
X-PUBLISHED-TTL:PT1H
BEGIN:VTIMEZONE
TZID:Europe/Berlin
BEGIN:DAYLIGHT
TZOFFSETFROM:+0100
TZOFFSETTO:+0200
TZNAME:CEST
DTSTART:20260329T010000
END:DAYLIGHT
BEGIN:STANDARD
TZOFFSETFROM:+0200
TZOFFSETTO:+0100
TZNAME:CET
DTSTART:20261025T010000
END:STANDARD
END:VTIMEZONE
BEGIN:VEVENT
DTSTART;TZID=Europe/Berlin:20260425T100000
DTEND;TZID=Europe/Berlin:20260425T160000
DTSTAMP:20260421T103959
CREATED:20260112T083833Z
LAST-MODIFIED:20260304T120221Z
UID:10004255-1777111200-1777132800@www.brunnamgebirge.at
SUMMARY:Brunner Gesundheitstag 2026
DESCRIPTION:Der Brunner Gesundheitstag bietet auch 2026 ein vielfältiges Programm rund um Bewegung\, Ernährung\, mentale Gesundheit und Wohlbefinden. Besucherinnen und Besucher können sich informieren\, Neues ausprobieren und Angebote aus der Region kennenlernen. \nFolder mit Programm (PDF) \n  \n 
URL:https://www.brunnamgebirge.at/veranstaltung/gesundheitstag-2026/
LOCATION:BRUNO\, Franz-Weiss-Platz 7\, Brunn am Gebirge\, Niederösterreich\, 2345\, Österreich
CATEGORIES:Gemeinde
ATTACH;FMTTYPE=image/jpeg:https://www.brunnamgebirge.at/wp-content/uploads/2026/01/GesundheitstagPlakatA3_2026-scaled.jpg
ORGANIZER;CN="Marktgemeinde%20Brunn%20am%20Gebirge":MAILTO:gemeinde@brunnamgebirge.gv.at
END:VEVENT
BEGIN:VEVENT
DTSTART;TZID=Europe/Berlin:20260501T140000
DTEND;TZID=Europe/Berlin:20260501T140000
DTSTAMP:20260421T103959
CREATED:20260225T112723Z
LAST-MODIFIED:20260225T112732Z
UID:10004285-1777644000-1777644000@www.brunnamgebirge.at
SUMMARY:Maibaumsetzen
DESCRIPTION:Traditionelles Maibaumsetzen im Ortszentrum mit Segnung\, Musik und Tanz. \n 
URL:https://www.brunnamgebirge.at/veranstaltung/maibaumsetzen/
LOCATION:BRUNO-Freiluft\, Franz Weiss-Platz 7\, Brunn am Gebirge\, 2345\, Österreich
CATEGORIES:Gemeinde
ATTACH;FMTTYPE=image/jpeg:https://www.brunnamgebirge.at/wp-content/uploads/2026/02/Plakat_Maibaum-2026-scaled.jpg
ORGANIZER;CN="Marktgemeinde%20Brunn%20am%20Gebirge":MAILTO:gemeinde@brunnamgebirge.gv.at
END:VEVENT
BEGIN:VEVENT
DTSTART;TZID=Europe/Berlin:20260507T173000
DTEND;TZID=Europe/Berlin:20260507T183000
DTSTAMP:20260421T103959
CREATED:20260417T122837Z
LAST-MODIFIED:20260417T122837Z
UID:10004312-1778175000-1778178600@www.brunnamgebirge.at
SUMMARY:Feierliche Eröffnung Tafelzusatz Römerweg
DESCRIPTION:Eröffnung der Hinweistafel durch Bgm Dr. Andreas Linhart \nUmkehrplatz Römerweg – Tierarzt Ludwig Müllner-Weg \nanschließend: Führung durch das Römermuseum
URL:https://www.brunnamgebirge.at/veranstaltung/feierliche-eroeffnung-tafelzusatz-roemerweg/
LOCATION:Umkehrplatz Römerweg – Tierarzt Ludwig Müllner-Weg\, Kreuzung Tierarzt-Ludwig-Müllner-Weg/Römerweg\, Brunn am Gebirge\, 2345\, Österreich
CATEGORIES:Gemeinde
ATTACH;FMTTYPE=image/jpeg:https://www.brunnamgebirge.at/wp-content/uploads/2026/04/PlakatA3_Roemerweg-scaled.jpg
ORGANIZER;CN="Marktgemeinde%20Brunn%20am%20Gebirge":MAILTO:gemeinde@brunnamgebirge.gv.at
END:VEVENT
BEGIN:VEVENT
DTSTART;TZID=Europe/Berlin:20260507T183000
DTEND;TZID=Europe/Berlin:20260507T193000
DTSTAMP:20260421T103959
CREATED:20260417T123235Z
LAST-MODIFIED:20260417T123258Z
UID:10004313-1778178600-1778182200@www.brunnamgebirge.at
SUMMARY:Vortrag: „Römische Funde in Brunn“
DESCRIPTION:mit Dr. Robert Krickl
URL:https://www.brunnamgebirge.at/veranstaltung/vortrag-roemische-funde-in-brunn/
LOCATION:Heimathaus Brunn am Gebirge\, Leopold Gattringer-Straße 34\, Brunn am Gebirge\, 2345\, Österreich
CATEGORIES:Gemeinde
ATTACH;FMTTYPE=image/jpeg:https://www.brunnamgebirge.at/wp-content/uploads/2026/04/PlakatA3_Roemerweg-scaled.jpg
ORGANIZER;CN="Marktgemeinde%20Brunn%20am%20Gebirge":MAILTO:gemeinde@brunnamgebirge.gv.at
END:VEVENT
BEGIN:VEVENT
DTSTART;TZID=Europe/Berlin:20260508T193000
DTEND;TZID=Europe/Berlin:20260508T193000
DTSTAMP:20260421T103959
CREATED:20260203T074455Z
LAST-MODIFIED:20260203T074502Z
UID:10004270-1778268600-1778268600@www.brunnamgebirge.at
SUMMARY:Festkonzert der Trachtenmusikkapelle
DESCRIPTION:Konzert der Brunner Trachtenmusikkapelle. Weitere Infos auf http://www.tmk-brunn.at.
URL:https://www.brunnamgebirge.at/veranstaltung/festkonzert-der-trachtenmusikkapelle/
LOCATION:BRUNO-Festsaal\, Franz Weiss-Platz 7\, Brunn am Gebirge\, Niederösterreich\, 2345\, Österreich
CATEGORIES:Gemeinde
ATTACH;FMTTYPE=image/jpeg:https://www.brunnamgebirge.at/wp-content/uploads/2026/02/PlakatA3_Konzert_Musikkapelle-003-scaled.jpg
ORGANIZER;CN="Marktgemeinde%20Brunn%20am%20Gebirge":MAILTO:gemeinde@brunnamgebirge.gv.at
END:VEVENT
BEGIN:VEVENT
DTSTART;TZID=Europe/Berlin:20260509T110000
DTEND;TZID=Europe/Berlin:20260509T180000
DTSTAMP:20260421T103959
CREATED:20260417T123815Z
LAST-MODIFIED:20260417T123815Z
UID:10004314-1778324400-1778349600@www.brunnamgebirge.at
SUMMARY:Vernissage: Christine Klasen-Sopar
DESCRIPTION:Akrostichon mit Kurzvideos und Arbeiten auf Papier\nVernissage mit Beiträgen der Musikschule Brunn \nAusstellungsdauer: 9. – 17. Mai \nÖffnungszeiten 10./14./16./17. Mai: 10–12\, 13–18 Uhr
URL:https://www.brunnamgebirge.at/veranstaltung/vernissage-christine-klasen-sopar/
LOCATION:Heimathaus Brunn am Gebirge\, Leopold Gattringer-Straße 34\, Brunn am Gebirge\, 2345\, Österreich
CATEGORIES:Gemeinde
ATTACH;FMTTYPE=image/jpeg:https://www.brunnamgebirge.at/wp-content/uploads/2019/03/Verwaltung-Der_Gliedererhof-Heimathaus.jpg
ORGANIZER;CN="Marktgemeinde%20Brunn%20am%20Gebirge":MAILTO:gemeinde@brunnamgebirge.gv.at
END:VEVENT
BEGIN:VEVENT
DTSTART;TZID=Europe/Berlin:20260512T190000
DTEND;TZID=Europe/Berlin:20260512T190000
DTSTAMP:20260421T103959
CREATED:20260417T144123Z
LAST-MODIFIED:20260417T150533Z
UID:10004324-1778612400-1778612400@www.brunnamgebirge.at
SUMMARY:Liederabend „Frühlingsnacht“
DESCRIPTION:Viktoria Car: Sopran\, Markus Bruker:  Klavier\nEin Liederabend voll nächtlicher Frühlingsstimmungen mit Musik aus der Zeit der Romantik bis hin zum heiteren Wienerlied. \nEintritt frei.
URL:https://www.brunnamgebirge.at/veranstaltung/liederabend-fruehlingsnacht-2/
LOCATION:Heimathaus Brunn am Gebirge\, Leopold Gattringer-Straße 34\, Brunn am Gebirge\, 2345\, Österreich
CATEGORIES:Gemeinde
ATTACH;FMTTYPE=image/jpeg:https://www.brunnamgebirge.at/wp-content/uploads/2026/04/PlakatA3_V_Car_01-scaled.jpg
ORGANIZER;CN="Marktgemeinde%20Brunn%20am%20Gebirge":MAILTO:gemeinde@brunnamgebirge.gv.at
END:VEVENT
BEGIN:VEVENT
DTSTART;TZID=Europe/Berlin:20260513T160000
DTEND;TZID=Europe/Berlin:20260513T160000
DTSTAMP:20260421T103959
CREATED:20260417T125653Z
LAST-MODIFIED:20260417T145049Z
UID:10004316-1778688000-1778688000@www.brunnamgebirge.at
SUMMARY:Hommage an die Sopranistin Conxita Badia
DESCRIPTION:Hommage an die „Wienerin aus Barcelona“ \nSopranistin Viktoria Car und Pianist Markus Bruker präsentieren eine Auswahl katalanischer und europäischer Lieder. Eintritt frei. \nAnmeldung per Mail an at@gencat.cat erbeten. \nSchwarz-Weiss-Foto: Fons Conxita Badia\, Biblioteca de Catalunya
URL:https://www.brunnamgebirge.at/veranstaltung/hommage-an-die-sopranistin-conxita-badia/
LOCATION:Heimathaus Brunn am Gebirge\, Leopold Gattringer-Straße 34\, Brunn am Gebirge\, 2345\, Österreich
CATEGORIES:Gemeinde
ATTACH;FMTTYPE=image/jpeg:https://www.brunnamgebirge.at/wp-content/uploads/2026/04/PlakatA3_V_Car_02-scaled.jpg
ORGANIZER;CN="Marktgemeinde%20Brunn%20am%20Gebirge":MAILTO:gemeinde@brunnamgebirge.gv.at
END:VEVENT
BEGIN:VEVENT
DTSTART;TZID=Europe/Berlin:20260516T190000
DTEND;TZID=Europe/Berlin:20260516T190000
DTSTAMP:20260421T103959
CREATED:20260216T130430Z
LAST-MODIFIED:20260216T130542Z
UID:10004274-1778958000-1778958000@www.brunnamgebirge.at
SUMMARY:Thomas Strobl: Wunschkonzert mit Song Contest Special
DESCRIPTION:Tickets: EUR 19 \nKartenreservierung per Mail an andrea.niegl-richter@kabsi.at \nKartenabholung: 7. Mai\, 18-20 Uhr\, im Weingut Niegl \nAuch heuer werden 2 Termine angeboten!
URL:https://www.brunnamgebirge.at/veranstaltung/thomas-strobl-wunschkonzert-mit-song-contest-special/
LOCATION:Weingut Niegl\, Feldstraße 27\, Brunn am Gebirge\, Niederösterreich\, 2345\, Österreich
CATEGORIES:Gemeinde
ATTACH;FMTTYPE=image/jpeg:https://www.brunnamgebirge.at/wp-content/uploads/2026/02/PlakatA3_thomas_strobl26-scaled.jpg
ORGANIZER;CN="Marktgemeinde%20Brunn%20am%20Gebirge":MAILTO:gemeinde@brunnamgebirge.gv.at
END:VEVENT
BEGIN:VEVENT
DTSTART;TZID=Europe/Berlin:20260517T110000
DTEND;TZID=Europe/Berlin:20260517T110000
DTSTAMP:20260421T103959
CREATED:20260216T130644Z
LAST-MODIFIED:20260216T130644Z
UID:10004275-1779015600-1779015600@www.brunnamgebirge.at
SUMMARY:Thomas Strobl: Wunschkonzert mit Song Contest Special
DESCRIPTION:Tickets: EUR 19 \nKartenreservierung per Mail an andrea.niegl-richter@kabsi.at \nKartenabholung: 7. Mai\, 18-20 Uhr\, im Weingut Niegl \nAuch heuer werden 2 Termine angeboten!
URL:https://www.brunnamgebirge.at/veranstaltung/thomas-strobl-wunschkonzert-mit-song-contest-special-2/
LOCATION:Weingut Niegl\, Feldstraße 27\, Brunn am Gebirge\, Niederösterreich\, 2345\, Österreich
CATEGORIES:Gemeinde
ATTACH;FMTTYPE=image/jpeg:https://www.brunnamgebirge.at/wp-content/uploads/2026/02/PlakatA3_thomas_strobl26-scaled.jpg
ORGANIZER;CN="Marktgemeinde%20Brunn%20am%20Gebirge":MAILTO:gemeinde@brunnamgebirge.gv.at
END:VEVENT
BEGIN:VEVENT
DTSTART;TZID=Europe/Berlin:20260529T180000
DTEND;TZID=Europe/Berlin:20260529T180000
DTSTAMP:20260421T103959
CREATED:20260417T130825Z
LAST-MODIFIED:20260417T133805Z
UID:10004320-1780077600-1780077600@www.brunnamgebirge.at
SUMMARY:Vokalensemble Klangbogen
DESCRIPTION:Ein Liederbogen umspannt Beiträge zur Fröhlichkeit\, Liebe\, Freude und Freundschaft. Ergänzt durch launige Kurzgedichte. \nEintritt: Freie Spende
URL:https://www.brunnamgebirge.at/veranstaltung/volksensemble-klangbogen/
LOCATION:Heimathaus Brunn am Gebirge\, Leopold Gattringer-Straße 34\, Brunn am Gebirge\, 2345\, Österreich
CATEGORIES:Gemeinde
ATTACH;FMTTYPE=image/jpeg:https://www.brunnamgebirge.at/wp-content/uploads/2019/05/Klangbogen.jpg
ORGANIZER;CN="Marktgemeinde%20Brunn%20am%20Gebirge":MAILTO:gemeinde@brunnamgebirge.gv.at
END:VEVENT
BEGIN:VEVENT
DTSTART;TZID=Europe/Berlin:20260611T170000
DTEND;TZID=Europe/Berlin:20260611T170000
DTSTAMP:20260421T103959
CREATED:20260225T110109Z
LAST-MODIFIED:20260317T111847Z
UID:10004281-1781197200-1781197200@www.brunnamgebirge.at
SUMMARY:Afterwork: Nine to Wine
DESCRIPTION:Afterwork ab 17 Uhr am BRUNO-Freiluft mit dem Weinbauverein und der Marktgemeinde Brunn am Gebirge. \nFür musikalische Unterhaltung sorgt heuer die Band „5/8erl in Ehr’n„. \n 
URL:https://www.brunnamgebirge.at/veranstaltung/afterwork-nine-to-wine-2/
LOCATION:BRUNO-Freiluft\, Franz Weiss-Platz 7\, Brunn am Gebirge\, 2345\, Österreich
CATEGORIES:Gemeinde
ATTACH;FMTTYPE=image/jpeg:https://www.brunnamgebirge.at/wp-content/uploads/2026/02/PlakatA3_Afterwork26_final-scaled.jpg
ORGANIZER;CN="Marktgemeinde%20Brunn%20am%20Gebirge":MAILTO:gemeinde@brunnamgebirge.gv.at
END:VEVENT
BEGIN:VEVENT
DTSTART;TZID=Europe/Berlin:20260613T180000
DTEND;TZID=Europe/Berlin:20260613T180000
DTSTAMP:20260421T103959
CREATED:20260203T132107Z
LAST-MODIFIED:20260309T142608Z
UID:10004272-1781373600-1781373600@www.brunnamgebirge.at
SUMMARY:Boogie Night live in Brunn
DESCRIPTION:Tickets auf www.bruno.at oder im SIB \nVorverkauf: EUR 27 (ermäßigt: EUR 17) \nAbendkasse: EUR 32 \n  \n 
URL:https://www.brunnamgebirge.at/veranstaltung/boogie-night-live-in-brunn/
LOCATION:BRUNO-Freiluft\, Franz Weiss-Platz 7\, Brunn am Gebirge\, 2345\, Österreich
CATEGORIES:Gemeinde
ATTACH;FMTTYPE=image/jpeg:https://www.brunnamgebirge.at/wp-content/uploads/2026/02/PlakatA3_Boogie2026-Stand-09.03.26-scaled.jpg
ORGANIZER;CN="Marktgemeinde%20Brunn%20am%20Gebirge":MAILTO:gemeinde@brunnamgebirge.gv.at
END:VEVENT
BEGIN:VEVENT
DTSTART;TZID=Europe/Berlin:20260710T193000
DTEND;TZID=Europe/Berlin:20260710T193000
DTSTAMP:20260421T103959
CREATED:20260225T111521Z
LAST-MODIFIED:20260320T080103Z
UID:10004282-1783711800-1783711800@www.brunnamgebirge.at
SUMMARY:Guitar Days - Jam Session
DESCRIPTION:10. Juli\, 19:30 Uhr: Jam Session beim Weinbau Wieninger \nEintritt frei \n 
URL:https://www.brunnamgebirge.at/veranstaltung/guitar-days-2/
LOCATION:Weinbau Wieninger\, Leopold Gattringer-Straße 37\, Brunn am Gebirge\, Niederösterreich\, 2345
CATEGORIES:Gemeinde
ATTACH;FMTTYPE=image/jpeg:https://www.brunnamgebirge.at/wp-content/uploads/2026/02/PlakatA3_guitar_days26-scaled.jpg
ORGANIZER;CN="Marktgemeinde%20Brunn%20am%20Gebirge":MAILTO:gemeinde@brunnamgebirge.gv.at
END:VEVENT
BEGIN:VEVENT
DTSTART;TZID=Europe/Berlin:20260711T193000
DTEND;TZID=Europe/Berlin:20260711T193000
DTSTAMP:20260421T103959
CREATED:20260225T111821Z
LAST-MODIFIED:20260320T081019Z
UID:10004283-1783798200-1783798200@www.brunnamgebirge.at
SUMMARY:Guitar Days - Ben Monder mit Mickylee & Jens Christian Kwella
DESCRIPTION:Der Abend ist den Dozenten des Guitar Days-Workshops gewidmet und verspricht authentische Festivalatmosphäre. \nPasquale Grasso: Gitarre\nMickylee: Gitarre\nStefan Pista Bartus: Kontrabass\nGernot Bernroider: Schlagzeug \nTickets: 17 Euro \nTickets auf www.bruno.at und im SIB
URL:https://www.brunnamgebirge.at/veranstaltung/guitar-days-3/
LOCATION:Heimathaus Brunn am Gebirge\, Leopold Gattringer-Straße 34\, Brunn am Gebirge\, 2345\, Österreich
CATEGORIES:Gemeinde
ATTACH;FMTTYPE=image/jpeg:https://www.brunnamgebirge.at/wp-content/uploads/2026/02/PlakatA3_guitar_days26-scaled.jpg
ORGANIZER;CN="Marktgemeinde%20Brunn%20am%20Gebirge":MAILTO:gemeinde@brunnamgebirge.gv.at
END:VEVENT
BEGIN:VEVENT
DTSTART;TZID=Europe/Berlin:20260712T180000
DTEND;TZID=Europe/Berlin:20260712T180000
DTSTAMP:20260421T103959
CREATED:20260225T111919Z
LAST-MODIFIED:20260320T081433Z
UID:10004284-1783879200-1783879200@www.brunnamgebirge.at
SUMMARY:Guitar Days - Konzert in der Musikschule
DESCRIPTION:Konzert der diesjährigen Workshop-Teilnehmerinnen und -Teilnehmer in der Musikschule Brunn. \nFreier Eintritt. Achtung: Begrenzte Zahl an Sitzplätzen. \n 
URL:https://www.brunnamgebirge.at/veranstaltung/guitar-days-4/
LOCATION:Musikschule\, Leopold Gattringer-Straße 42\, Brunn am Gebirge\, Niederösterreich\, 2345\, Österreich
CATEGORIES:Gemeinde
ATTACH;FMTTYPE=image/jpeg:https://www.brunnamgebirge.at/wp-content/uploads/2026/02/PlakatA3_guitar_days26-scaled.jpg
ORGANIZER;CN="Marktgemeinde%20Brunn%20am%20Gebirge":MAILTO:gemeinde@brunnamgebirge.gv.at
END:VEVENT
BEGIN:VEVENT
DTSTART;TZID=Europe/Berlin:20260916T193000
DTEND;TZID=Europe/Berlin:20260916T193000
DTSTAMP:20260421T103959
CREATED:20260120T133529Z
LAST-MODIFIED:20260121T093028Z
UID:10004262-1789587000-1789587000@www.brunnamgebirge.at
SUMMARY:Kalter weißer Mann
DESCRIPTION:Komödie von Dietmar Jacobs und Moritz Netenjakob. Nach ihrem Erfolg mit „Extrawurst“ präsentieren die Autoren eine neue Satire über eine Trauerfeier\, die völlig aus dem Ruder läuft. Es spielen: Reinhard Nowak\, Adriana Zartl\, Claudia Rohnefeld\, Hubert Wolf\, Alexander Hofelner und Michelle Catherine Härle. \nTickets demnächst erhältlich auf www.bruno.at oder im Bürgerservice (SIB). \n 
URL:https://www.brunnamgebirge.at/veranstaltung/kalter-weisser-mann-2/
LOCATION:BRUNO-Festsaal\, Franz Weiss-Platz 7\, Brunn am Gebirge\, Niederösterreich\, 2345\, Österreich
CATEGORIES:Gemeinde
ATTACH;FMTTYPE=image/jpeg:https://www.brunnamgebirge.at/wp-content/uploads/2026/01/PlakatA3_weisser_mann-NEU-scaled.jpg
ORGANIZER;CN="Marktgemeinde%20Brunn%20am%20Gebirge":MAILTO:gemeinde@brunnamgebirge.gv.at
END:VEVENT
END:VCALENDAR