BEGIN:VCALENDAR
VERSION:2.0
PRODID:-//Marktgemeinde Brunn am Gebirge - ECPv6.1.2.2//NONSGML v1.0//EN
CALSCALE:GREGORIAN
METHOD:PUBLISH
X-ORIGINAL-URL:https://www.brunnamgebirge.at
X-WR-CALDESC:Veranstaltungen für Marktgemeinde Brunn am Gebirge
REFRESH-INTERVAL;VALUE=DURATION:PT1H
X-Robots-Tag:noindex
X-PUBLISHED-TTL:PT1H
BEGIN:VTIMEZONE
TZID:Europe/Berlin
BEGIN:DAYLIGHT
TZOFFSETFROM:+0100
TZOFFSETTO:+0200
TZNAME:CEST
DTSTART:20260329T010000
END:DAYLIGHT
BEGIN:STANDARD
TZOFFSETFROM:+0200
TZOFFSETTO:+0100
TZNAME:CET
DTSTART:20261025T010000
END:STANDARD
END:VTIMEZONE
BEGIN:VEVENT
DTSTART;TZID=Europe/Berlin:20260316T170000
DTEND;TZID=Europe/Berlin:20260316T180000
DTSTAMP:20260422T103213
CREATED:20251216T084457Z
LAST-MODIFIED:20251216T084457Z
UID:10004227-1773680400-1773684000@www.brunnamgebirge.at
SUMMARY:Brunn speckt ab: Nordic Walking
DESCRIPTION:Mit Claudia Greger-Eymann (staatlich geprüfte Fitnesstrainerin) \nJeden Donnerstag\, ab 19.2. bis 26.3. sowie jeden Montag ab 23.2. bis 23.3.\, jeweils von 17 bis 18 Uhr. \nDie Veranstaltung findet bei jedem Wetter statt. Die Teilnahme ist kostenlos. Anmeldung nicht erforderlich. \nTreffpunkt: BRUNO-Freiluft\, Apfelbaum der Gesunden Gemeinde
URL:https://www.brunnamgebirge.at/veranstaltung/brunn-speckt-ab-nordic-walking-9/
LOCATION:BRUNO-Freiluft\, Franz Weiss-Platz 7\, Brunn am Gebirge\, 2345\, Österreich
CATEGORIES:Gemeinde
ATTACH;FMTTYPE=image/jpeg:https://www.brunnamgebirge.at/wp-content/uploads/2025/12/Nordic-Walking_gabor-karpati-FjT3HkVpC88-unsplash-scaled-e1765874126507.jpg
ORGANIZER;CN="Gesunde%20Gemeinde":MAILTO:gemeinde@brunnamgebirge.gv.at
END:VEVENT
BEGIN:VEVENT
DTSTART;TZID=Europe/Berlin:20260318T110000
DTEND;TZID=Europe/Berlin:20260318T190000
DTSTAMP:20260422T103213
CREATED:20260212T080147Z
LAST-MODIFIED:20260212T080147Z
UID:10004273-1773831600-1773860400@www.brunnamgebirge.at
SUMMARY:Rotes Kreuz: Blutspenden
DESCRIPTION:Blutspendeaktion des Roten Kreuzes. \nWann: 11-14 Uhr und 15-19 Uhr \nWo: BRUNO \nNähere Infos und Terminreservierung auf www.blut.at
URL:https://www.brunnamgebirge.at/veranstaltung/rotes-kreuz-blutspenden-2/
LOCATION:BRUNO\, Franz-Weiss-Platz 7\, Brunn am Gebirge\, Niederösterreich\, 2345\, Österreich
CATEGORIES:Privat
ATTACH;FMTTYPE=image/jpeg:https://www.brunnamgebirge.at/wp-content/uploads/2026/02/Maerz-2026.jpg
ORGANIZER;CN="Rotes%20Kreuz%20Brunn%20am%20Gebirge":MAILTO:brunn@n.roteskreuz.at
END:VEVENT
BEGIN:VEVENT
DTSTART;TZID=Europe/Berlin:20260318T190000
DTEND;TZID=Europe/Berlin:20260318T190000
DTSTAMP:20260422T103213
CREATED:20251217T154707Z
LAST-MODIFIED:20251217T154707Z
UID:10004240-1773860400-1773860400@www.brunnamgebirge.at
SUMMARY:„The Chosen“–Filmabend
DESCRIPTION:8 Filmabende mit Glaubensaustausch und Diskussion \nTermine: \n14.1.\, 21. und 28.1.2026 \n11. und 25.2.2026 \n4.\,11. und 18.3.2026
URL:https://www.brunnamgebirge.at/veranstaltung/the-chosen-filmabend-7/
LOCATION:Pfarre\, Kirchengasse 9\, Brunn am Gebirge\, 2345\, Österreich
CATEGORIES:Privat
ATTACH;FMTTYPE=image/jpeg:https://www.brunnamgebirge.at/wp-content/uploads/2019/03/Pfarre-e1559043958918.jpg
ORGANIZER;CN="Pfarre":MAILTO:pfarre.brunn@katholischekirche.at
END:VEVENT
BEGIN:VEVENT
DTSTART;TZID=Europe/Berlin:20260319T170000
DTEND;TZID=Europe/Berlin:20260319T180000
DTSTAMP:20260422T103213
CREATED:20251216T084117Z
LAST-MODIFIED:20251216T084117Z
UID:10004223-1773939600-1773943200@www.brunnamgebirge.at
SUMMARY:Brunn speckt ab: Nordic Walking
DESCRIPTION:Mit Claudia Greger-Eymann (staatlich geprüfte Fitnesstrainerin) \nJeden Donnerstag\, ab 19.2. bis 26.3. sowie jeden Montag ab 23.2. bis 23.3.\, jeweils von 17 bis 18 Uhr. \nDie Veranstaltung findet bei jedem Wetter statt. Die Teilnahme ist kostenlos. Anmeldung nicht erforderlich. \nTreffpunkt: BRUNO-Freiluft\, Apfelbaum der Gesunden Gemeinde
URL:https://www.brunnamgebirge.at/veranstaltung/brunn-speckt-ab-nordic-walking-5/
LOCATION:BRUNO-Freiluft\, Franz Weiss-Platz 7\, Brunn am Gebirge\, 2345\, Österreich
CATEGORIES:Gemeinde
ATTACH;FMTTYPE=image/jpeg:https://www.brunnamgebirge.at/wp-content/uploads/2025/12/Nordic-Walking_gabor-karpati-FjT3HkVpC88-unsplash-scaled-e1765874126507.jpg
ORGANIZER;CN="Gesunde%20Gemeinde":MAILTO:gemeinde@brunnamgebirge.gv.at
END:VEVENT
BEGIN:VEVENT
DTSTART;TZID=Europe/Berlin:20260319T183000
DTEND;TZID=Europe/Berlin:20260319T183000
DTSTAMP:20260422T103213
CREATED:20260121T095358Z
LAST-MODIFIED:20260209T125441Z
UID:10004263-1773945000-1773945000@www.brunnamgebirge.at
SUMMARY:Klavierabend: Begegnungen der Romantik
DESCRIPTION:Klavier: Renate Hudler \nKlaviermusik von Chopin\, Clara und Robert Schumann\, Brahms\, Fanny Hensel und Felix Mendelssohn. \nDie Romantik war nicht nur eine Epoche großer musikalischer Individualität\, sondern auch eine Zeit intensiven künstlerischen Austauschs und gegenseitiger Inspiration. \nIm Zentrum dieses Klavierabends steht Schumanns Carnaval op. 9\, ein klingendes Maskenspiel\, in dem er nicht nur sich selbst\, sondern auch Weggefährten wie Chopin und seine zukünftige Frau Clara musikalisch porträtiert. Chopins zweite Ballade\, gewidmet Schumann\, zeigt seine lyrische Seite\, während seine Etüden als Meilensteine des Klavierrepertoires gelten. Im Gegensatz zu Clara Schumann\, die bereits als Kind als Pianistin und Komponistin an die Öffentlichkeit trat\, begann Fanny Hensel erst mit 41 Jahren\, ihre Kompositionen – gegen familiären Widerstand – zu veröffentlichen. \nClara Schumanns Romanzen op. 11 entstanden im Jahr ihrer Hochzeit mit Robert Schumann\, dem sie diese Stücke widmete. Brahms’ Klavierstücke op. 118 sind Clara Schumann gewidmet und erzählen von einer tiefen künstlerischen Verbindung und lebenslangen Freundschaft. \nDie enge Verbindung und der ständige Austausch dieser Komponistinnen und Komponisten spiegeln sich in zahlreichen Widmungen\, musikalischen Zitaten und einem gemeinsam entwickelten Klangideal wider\, das den romantischen Klavierstil nachhaltig prägte. \nTickets um EUR 17 auf www.bruno.at oder im Bürgerservice (SIB). Tickets Abendkasse: EUR 22. Weitere Infos zur Künstlerin auf https://hudlergrube.com. \nFoto: Fotostudio Staudigl \n 
URL:https://www.brunnamgebirge.at/veranstaltung/klavierabend-begegnungen-der-romantik/
LOCATION:Heimathaus Brunn am Gebirge\, Leopold Gattringer-Straße 34\, Brunn am Gebirge\, 2345\, Österreich
ATTACH;FMTTYPE=image/jpeg:https://www.brunnamgebirge.at/wp-content/uploads/2026/01/PlakatA3_klavierabend-scaled.jpg
END:VEVENT
BEGIN:VEVENT
DTSTART;TZID=Europe/Berlin:20260319T190000
DTEND;TZID=Europe/Berlin:20260319T190000
DTSTAMP:20260422T103213
CREATED:20260226T100010Z
LAST-MODIFIED:20260226T100010Z
UID:10004286-1773946800-1773946800@www.brunnamgebirge.at
SUMMARY:Filmabend „Audi im Ralleysport“
DESCRIPTION:Filmvorführung und Gespräch mit Rallyelegenden Stig Blomqvist\, Franz Wittmann und Jürgen Stockmar. \nTickets: 28 EUR \nWeitere Infos auf www.bruno.at \nTickets erhältlich auf www.bruno.at und im SIB
URL:https://www.brunnamgebirge.at/veranstaltung/filmabend-audi-im-ralleysport-2/
LOCATION:BRUNO\, Franz-Weiss-Platz 7\, Brunn am Gebirge\, Niederösterreich\, 2345\, Österreich
CATEGORIES:Privat
ATTACH;FMTTYPE=image/jpeg:https://www.brunnamgebirge.at/wp-content/uploads/2019/06/BRUNO-Festsaal.jpg
ORGANIZER;CN="%C3%96MVC":MAILTO:rallye-historiale@gmx.at
END:VEVENT
BEGIN:VEVENT
DTSTART;TZID=Europe/Berlin:20260320T160000
DTEND;TZID=Europe/Berlin:20260320T160000
DTSTAMP:20260422T103213
CREATED:20251222T103146Z
LAST-MODIFIED:20251222T105206Z
UID:10004250-1774022400-1774022400@www.brunnamgebirge.at
SUMMARY:Science Busters for Kids
DESCRIPTION:Wissenschaft zum Nach-Machen und Nach-Denken – farbenfroh\, lustig und lehrreich! \nEinlass: 15 Uhr \nTicket Kind (bis 12 Jahre): EUR 16 / Ticket Erwachsener: EUR 22 \nTickets erhältlich auf www.bruno.at und im SIB.
URL:https://www.brunnamgebirge.at/veranstaltung/science-busters-for-kids/
LOCATION:BRUNO-Festsaal\, Franz Weiss-Platz 7\, Brunn am Gebirge\, Niederösterreich\, 2345\, Österreich
CATEGORIES:Privat
ATTACH;FMTTYPE=image/jpeg:https://www.brunnamgebirge.at/wp-content/uploads/2025/12/science-busters-for-kids-bild-klein.jpg
END:VEVENT
BEGIN:VEVENT
DTSTART;TZID=Europe/Berlin:20260321T081500
DTEND;TZID=Europe/Berlin:20260321T173000
DTSTAMP:20260422T103213
CREATED:20260130T141407Z
LAST-MODIFIED:20260130T141407Z
UID:10004269-1774080900-1774114200@www.brunnamgebirge.at
SUMMARY:Betreute Reise mit dem Roten Kreuz Brunn
DESCRIPTION:Mit Bus\, Reisebegleitung und medizinischem Personal geht es am 21. März zum Flughafen Wien. Dort erleben die Teilnehmenden bei einer Busrundfahrt am Flughafen-Vorfeld den Flughafenbetrieb aus nächster Nähe. Im Erlebnisraum ermöglichen multimediale Installationen einen virtuellen Flug aus der Cockpit-Perspektive. Nach dem Mittagessen im Gasthaus Winter in Götzendorf folgt ein Besuch des Glasmuseums „Die gläserne Burg“ in Weigelsdorf mit Einblicken in die Kunst der Glasbearbeitung. \nAbfahrt von der Bezirksstelle Brunn: 8:15 Uhr\nRückkehr: ca. 17:30 Uhr \nKosten für Busfahrt\, Mittagessen und Eintritte: EUR 75 \nBuchung und Barzahlung: Mo-F\, 7-14 Uhr\, Alexander Groß-Gasse 7. Infos unter Tel. 059 144/6440 0 oder per Mail an gsd.bg@n.roteskreuz.at. \nDas Angebot ist speziell auf die Anforderungen der teilnehmenden Personen und deren Bedürfnisse abgestimmt.
URL:https://www.brunnamgebirge.at/veranstaltung/betreute-reise-mit-dem-roten-kreuz-brunn/
LOCATION:Rotes Kreuz Brunn am Gebirge\, Alexander Groß-Gasse 71\, Brunn am Gebirge\, Niederösterreich\, 2345\, Österreich
CATEGORIES:Privat
ATTACH;FMTTYPE=image/jpeg:https://www.brunnamgebirge.at/wp-content/uploads/2026/01/2026-03-QUAD-BETREUTES-REISEN-Brunn-Flughafen-Glasburg-scaled.jpg
ORGANIZER;CN="Rotes%20Kreuz%20Brunn%20am%20Gebirge":MAILTO:brunn@n.roteskreuz.at
END:VEVENT
BEGIN:VEVENT
DTSTART;TZID=Europe/Berlin:20260322T150000
DTEND;TZID=Europe/Berlin:20260322T150000
DTSTAMP:20260422T103213
CREATED:20251217T164737Z
LAST-MODIFIED:20251217T164737Z
UID:10004246-1774191600-1774191600@www.brunnamgebirge.at
SUMMARY:25 Jahre Kinder Tanz- und Musikverein
DESCRIPTION:Freuen Sie sich auf ein abwechslungsreiches Programm mit Musik\, Tanz und vielen schönen Erinnerungen aus einem Vierteljahrhundert Vereinsgeschichte. \nZahlreiche junge Talente zeigen ihr Können auf der Bühne und sorgen für beste Unterhaltung. \n20 % der Spenden kommen der Kinderkrebshilfe St. Anna zugute. \nSitzplatzreservierung auf www.bruno.at. \nEintritt frei\, Spende erwünscht
URL:https://www.brunnamgebirge.at/veranstaltung/25-jahre-kinder-tanz-und-musikverein/
LOCATION:BRUNO-Festsaal\, Franz Weiss-Platz 7\, Brunn am Gebirge\, Niederösterreich\, 2345\, Österreich
CATEGORIES:Gemeinde
ATTACH;FMTTYPE=image/jpeg:https://www.brunnamgebirge.at/wp-content/uploads/2019/06/BRUNO-Festsaal.jpg
ORGANIZER;CN="Marktgemeinde%20Brunn%20am%20Gebirge":MAILTO:gemeinde@brunnamgebirge.gv.at
END:VEVENT
END:VCALENDAR