BEGIN:VCALENDAR
VERSION:2.0
PRODID:-//Marktgemeinde Brunn am Gebirge - ECPv6.1.2.2//NONSGML v1.0//EN
CALSCALE:GREGORIAN
METHOD:PUBLISH
X-ORIGINAL-URL:https://www.brunnamgebirge.at
X-WR-CALDESC:Veranstaltungen für Marktgemeinde Brunn am Gebirge
REFRESH-INTERVAL;VALUE=DURATION:PT1H
X-Robots-Tag:noindex
X-PUBLISHED-TTL:PT1H
BEGIN:VTIMEZONE
TZID:Europe/Berlin
BEGIN:DAYLIGHT
TZOFFSETFROM:+0100
TZOFFSETTO:+0200
TZNAME:CEST
DTSTART:20260329T010000
END:DAYLIGHT
BEGIN:STANDARD
TZOFFSETFROM:+0200
TZOFFSETTO:+0100
TZNAME:CET
DTSTART:20261025T010000
END:STANDARD
END:VTIMEZONE
BEGIN:VEVENT
DTSTART;TZID=Europe/Berlin:20260309T170000
DTEND;TZID=Europe/Berlin:20260309T180000
DTSTAMP:20260422T103217
CREATED:20251216T084409Z
LAST-MODIFIED:20251216T084417Z
UID:10004226-1773075600-1773079200@www.brunnamgebirge.at
SUMMARY:Brunn speckt ab: Nordic Walking
DESCRIPTION:Mit Claudia Greger-Eymann (staatlich geprüfte Fitnesstrainerin) \nJeden Donnerstag\, ab 19.2. bis 26.3. sowie jeden Montag ab 23.2. bis 23.3.\, jeweils von 17 bis 18 Uhr. \nDie Veranstaltung findet bei jedem Wetter statt. Die Teilnahme ist kostenlos. Anmeldung nicht erforderlich. \nTreffpunkt: BRUNO-Freiluft\, Apfelbaum der Gesunden Gemeinde
URL:https://www.brunnamgebirge.at/veranstaltung/brunn-speckt-ab-nordic-walking-8/
LOCATION:BRUNO-Freiluft\, Franz Weiss-Platz 7\, Brunn am Gebirge\, 2345\, Österreich
CATEGORIES:Gemeinde
ATTACH;FMTTYPE=image/jpeg:https://www.brunnamgebirge.at/wp-content/uploads/2025/12/Nordic-Walking_gabor-karpati-FjT3HkVpC88-unsplash-scaled-e1765874126507.jpg
ORGANIZER;CN="Gesunde%20Gemeinde":MAILTO:gemeinde@brunnamgebirge.gv.at
END:VEVENT
BEGIN:VEVENT
DTSTART;TZID=Europe/Berlin:20260311T190000
DTEND;TZID=Europe/Berlin:20260311T190000
DTSTAMP:20260422T103217
CREATED:20251217T154631Z
LAST-MODIFIED:20251217T154826Z
UID:10004239-1773255600-1773255600@www.brunnamgebirge.at
SUMMARY:„The Chosen“–Filmabend
DESCRIPTION:8 Filmabende mit Glaubensaustausch und Diskussion \nTermine: \n14.1.\, 21. und 28.1.2026 \n11. und 25.2.2026 \n4.\,11. und 18.3.2026
URL:https://www.brunnamgebirge.at/veranstaltung/the-chosen-filmabend-6/
LOCATION:Pfarre\, Kirchengasse 9\, Brunn am Gebirge\, 2345\, Österreich
CATEGORIES:Privat
ATTACH;FMTTYPE=image/jpeg:https://www.brunnamgebirge.at/wp-content/uploads/2019/03/Pfarre-e1559043958918.jpg
ORGANIZER;CN="Pfarre":MAILTO:pfarre.brunn@katholischekirche.at
END:VEVENT
BEGIN:VEVENT
DTSTART;TZID=Europe/Berlin:20260312T170000
DTEND;TZID=Europe/Berlin:20260312T180000
DTSTAMP:20260422T103217
CREATED:20251216T083935Z
LAST-MODIFIED:20251216T084103Z
UID:10004222-1773334800-1773338400@www.brunnamgebirge.at
SUMMARY:Brunn speckt ab: Nordic Walking
DESCRIPTION:Mit Claudia Greger-Eymann (staatlich geprüfte Fitnesstrainerin) \nJeden Donnerstag\, ab 19.2. bis 26.3. sowie jeden Montag ab 23.2. bis 23.3.\, jeweils von 17 bis 18 Uhr. \nDie Veranstaltung findet bei jedem Wetter statt. Die Teilnahme ist kostenlos. Anmeldung nicht erforderlich. \nTreffpunkt: BRUNO-Freiluft\, Apfelbaum der Gesunden Gemeinde
URL:https://www.brunnamgebirge.at/veranstaltung/brunn-speckt-ab-nordic-walking-4/
LOCATION:BRUNO-Freiluft\, Franz Weiss-Platz 7\, Brunn am Gebirge\, 2345\, Österreich
CATEGORIES:Gemeinde
ATTACH;FMTTYPE=image/jpeg:https://www.brunnamgebirge.at/wp-content/uploads/2025/12/Nordic-Walking_gabor-karpati-FjT3HkVpC88-unsplash-scaled-e1765874126507.jpg
ORGANIZER;CN="Gesunde%20Gemeinde":MAILTO:gemeinde@brunnamgebirge.gv.at
END:VEVENT
BEGIN:VEVENT
DTSTART;TZID=Europe/Berlin:20260312T180000
DTEND;TZID=Europe/Berlin:20260312T180000
DTSTAMP:20260422T103217
CREATED:20260122T094734Z
LAST-MODIFIED:20260219T070644Z
UID:10004266-1773338400-1773338400@www.brunnamgebirge.at
SUMMARY:3. Brunner Wirtschaftsnetzwerktreffen
DESCRIPTION:Die Marktgemeinde Brunn am Gebirge lädt zum dritten Netzwerktreffen der Brunner Wirtschaft ein! \nDatum: 12. März 2026\nZeit: 18 Uhr\nOrt: Hotel Rainers21\, Liebermannstraße / Campus21\, 2345 Brunn am Gebirge \nProgramm:  \n\nImpulsvortrag der Raika Brunn am Gebirge zum Thema „Unternehmerkredite“\nFührung durch das Hotel Rainers21\nOffenes Networking\n\nFreuen Sie sich auf einen inspirierenden Abend in entspannter Atmosphäre mit schmackhaftem Fingerfood. \nBitte beachten Sie\, dass die hoteleigenen Parkplätze kostenpflichtig sind. Es gibt jedoch ausreichend Parkplätze außerhalb des Hotelgeländes.  \nAnmeldung auf https://brunn.life/anmeldung. Anmeldeschluss: 5. März 2026. \nPlakat 3. Netzwerktreffen
URL:https://www.brunnamgebirge.at/veranstaltung/3-brunner-wirtschaftsnetzwerktreffen/
LOCATION:Hotel Rainers21\, Liebermannstraße / Campus21\,\, Brunn am Gebirge\, 2345\, Österreich
CATEGORIES:Gemeinde
ATTACH;FMTTYPE=image/jpeg:https://www.brunnamgebirge.at/wp-content/uploads/2026/01/filip-rankovic-grobgaard-zz_mXkGBX_s-unsplash-scaled-e1769081600132.jpg
ORGANIZER;CN="Marktgemeinde%20Brunn%20am%20Gebirge":MAILTO:gemeinde@brunnamgebirge.gv.at
END:VEVENT
BEGIN:VEVENT
DTSTART;TZID=Europe/Berlin:20260314T160000
DTEND;TZID=Europe/Berlin:20260314T160000
DTSTAMP:20260422T103217
CREATED:20251022T115217Z
LAST-MODIFIED:20251223T110614Z
UID:10003759-1773504000-1773504000@www.brunnamgebirge.at
SUMMARY:Mogli - Das Dschungelbuch
DESCRIPTION:Ein packendes Kindermusical über Freundschaft\, Zusammenhalt und die Schönheit der Natur für alle ab 6 Jahren. Basierend auf dem Buch von Joseph Rudyard Kipling\, neu aufgearbeitet vom Mödlinger Musiktheater „teatro“. \nTickets und Infos auf  www.bruno.at oder im Bürgerservice (SIB). \nTicket Erwachsene/r: EUR 20\nTicket Kind: EUR 15 \nEinlass: 15 Uhr \nHeader-Foto: teatro
URL:https://www.brunnamgebirge.at/veranstaltung/mogli-das-dschungelbuch/
LOCATION:BRUNO-Festsaal\, Franz Weiss-Platz 7\, Brunn am Gebirge\, Niederösterreich\, 2345\, Österreich
CATEGORIES:Gemeinde
ATTACH;FMTTYPE=image/jpeg:https://www.brunnamgebirge.at/wp-content/uploads/2025/10/Das-Dschungelbuch-quer-c-halmen.at_-scaled.jpg
ORGANIZER;CN="Marktgemeinde%20Brunn%20am%20Gebirge":MAILTO:gemeinde@brunnamgebirge.gv.at
END:VEVENT
END:VCALENDAR