BEGIN:VCALENDAR
VERSION:2.0
PRODID:-//Marktgemeinde Brunn am Gebirge - ECPv6.1.2.2//NONSGML v1.0//EN
CALSCALE:GREGORIAN
METHOD:PUBLISH
X-WR-CALNAME:Marktgemeinde Brunn am Gebirge
X-ORIGINAL-URL:https://www.brunnamgebirge.at
X-WR-CALDESC:Veranstaltungen für Marktgemeinde Brunn am Gebirge
REFRESH-INTERVAL;VALUE=DURATION:PT1H
X-Robots-Tag:noindex
X-PUBLISHED-TTL:PT1H
BEGIN:VTIMEZONE
TZID:Europe/Berlin
BEGIN:DAYLIGHT
TZOFFSETFROM:+0100
TZOFFSETTO:+0200
TZNAME:CEST
DTSTART:20250330T010000
END:DAYLIGHT
BEGIN:STANDARD
TZOFFSETFROM:+0200
TZOFFSETTO:+0100
TZNAME:CET
DTSTART:20251026T010000
END:STANDARD
END:VTIMEZONE
BEGIN:VEVENT
DTSTART;TZID=Europe/Berlin:20250329T080000
DTEND;TZID=Europe/Berlin:20250329T130000
DTSTAMP:20260422T184441
CREATED:20250204T064604Z
LAST-MODIFIED:20250204T065811Z
UID:10002699-1743235200-1743253200@www.brunnamgebirge.at
SUMMARY:Bauernmarkt
DESCRIPTION:
URL:https://www.brunnamgebirge.at/veranstaltung/bauernmarkt-2/2025-03-29/
LOCATION:BRUNO-Freiluft\, Franz Weiss-Platz 7\, Brunn am Gebirge\, 2345\, Österreich
CATEGORIES:Privat
ATTACH;FMTTYPE=image/jpeg:https://www.brunnamgebirge.at/wp-content/uploads/2025/02/Bauernmarkt_cPeter_Wendt_unsplash.com_.jpg
END:VEVENT
BEGIN:VEVENT
DTSTART;TZID=Europe/Berlin:20250329T090000
DTEND;TZID=Europe/Berlin:20250329T180000
DTSTAMP:20260422T184441
CREATED:20250217T092314Z
LAST-MODIFIED:20250217T094035Z
UID:10002740-1743238800-1743271200@www.brunnamgebirge.at
SUMMARY:Flohmarkt
DESCRIPTION:zu Gunsten des Tierschutzvereins Mödling www.tsv-moedling.at. \n28. bis 30. März 2025\nFreitag und Samstag\, jeweils von 9 bis 18 Uhr\nSonntag von 9 bis 13 Uhr \nTermine für Spendenabgaben auf unserer Facebookseite oder rufen Sie uns an: 0677/62 00 9276 oder 0664/303 66 84 \nAchtung: Keine Spendenannahme mehr am Donnerstag\, 27. März 2025
URL:https://www.brunnamgebirge.at/veranstaltung/flohmarkt/2025-03-29/
LOCATION:Volksheim Wr. Neudorf\, Friedhofstr. 4\, Wiener Neudorf\, Niederösterreich\, 2351
CATEGORIES:Privat
ATTACH;FMTTYPE=image/jpeg:https://www.brunnamgebirge.at/wp-content/uploads/2019/03/Flohmarkt_©_alexander-shustov_unsplash.jpg
ORGANIZER;CN="Tierschutzverein%20M%C3%B6dling":MAILTO:tierschutzvereinmoedling@plus.at
END:VEVENT
BEGIN:VEVENT
DTSTART;TZID=Europe/Berlin:20250329T140000
DTEND;TZID=Europe/Berlin:20250329T180000
DTSTAMP:20260422T184441
CREATED:20250211T102018Z
LAST-MODIFIED:20250217T094842Z
UID:10002743-1743256800-1743271200@www.brunnamgebirge.at
SUMMARY:Vernissage Franz Huber
DESCRIPTION:Wein und Kultur im urbanen Raum\nMischtechnik Acryl und Aquarelle zum Thema \nÖffnungszeiten:\n22. März 2025 von 11 bis 18 Uhr\n23.\, 29. und 30. März 2025\, jeweils von 14 bis 18 Uhr
URL:https://www.brunnamgebirge.at/veranstaltung/vernissage-franz-huber/2025-03-29/
LOCATION:Heimathaus Brunn am Gebirge\, Leopold Gattringer-Straße 34\, Brunn am Gebirge\, 2345\, Österreich
CATEGORIES:Gemeinde
ATTACH;FMTTYPE=image/jpeg:https://www.brunnamgebirge.at/wp-content/uploads/2025/02/Vernissage_vincent-tantardini-hWlvhJAxkIw-unsplash.jpg
ORGANIZER;CN="Marktgemeinde%20Brunn%20am%20Gebirge":MAILTO:gemeinde@brunnamgebirge.gv.at
END:VEVENT
END:VCALENDAR