BEGIN:VCALENDAR
VERSION:2.0
PRODID:-//Marktgemeinde Brunn am Gebirge - ECPv6.1.2.2//NONSGML v1.0//EN
CALSCALE:GREGORIAN
METHOD:PUBLISH
X-ORIGINAL-URL:https://www.brunnamgebirge.at
X-WR-CALDESC:Veranstaltungen für Marktgemeinde Brunn am Gebirge
REFRESH-INTERVAL;VALUE=DURATION:PT1H
X-Robots-Tag:noindex
X-PUBLISHED-TTL:PT1H
BEGIN:VTIMEZONE
TZID:Europe/Berlin
BEGIN:DAYLIGHT
TZOFFSETFROM:+0100
TZOFFSETTO:+0200
TZNAME:CEST
DTSTART:20250330T010000
END:DAYLIGHT
BEGIN:STANDARD
TZOFFSETFROM:+0200
TZOFFSETTO:+0100
TZNAME:CET
DTSTART:20251026T010000
END:STANDARD
END:VTIMEZONE
BEGIN:VEVENT
DTSTART;TZID=Europe/Berlin:20250327T170000
DTEND;TZID=Europe/Berlin:20250327T180000
DTSTAMP:20260422T183925
CREATED:20250211T115621Z
LAST-MODIFIED:20250211T115706Z
UID:10002722-1743094800-1743098400@www.brunnamgebirge.at
SUMMARY:Nordic Walking
DESCRIPTION:Jeden Donnerstag im Rahmen der Aktion „Brunn speckt ab“ mit mit Claudia Greger-Eymann\, staatlich geprüfte Fitnesstrainerin \nTreffpunkt ist beim Apfelbaum der Gesunden Gemeinde – BRUNO-Freiluft.\nDie Teilnahme ist kostenlos\, die Termine finden bei jedem Wetter statt!
URL:https://www.brunnamgebirge.at/veranstaltung/nordic-walking/2025-03-27/
LOCATION:BRUNO-Freiluft\, Franz Weiss-Platz 7\, Brunn am Gebirge\, 2345\, Österreich
CATEGORIES:Gemeinde
ATTACH;FMTTYPE=image/jpeg:https://www.brunnamgebirge.at/wp-content/uploads/2022/02/Gesunde_Gemeinde_Logo_Brunn.jpg
ORGANIZER;CN="Gesunde%20Gemeinde":MAILTO:gemeinde@brunnamgebirge.gv.at
END:VEVENT
BEGIN:VEVENT
DTSTART;TZID=Europe/Berlin:20250327T180000
DTEND;TZID=Europe/Berlin:20250327T190000
DTSTAMP:20260422T183925
CREATED:20250127T091157Z
LAST-MODIFIED:20250127T091217Z
UID:10002686-1743098400-1743102000@www.brunnamgebirge.at
SUMMARY:„Beweg‘ dich – Gesunder Rücken“
DESCRIPTION:Unser Körper ist ein Wunder der Natur und für Bewegung gemacht. Doch wer kennt das nicht: langes Sitzen und Stehen\, die falsche Haltung oder der Bewegungsmangel führen oft zu Verspannungen und Rückenschmerzen. Auch privater Stress und berufliche Überforderung können Ihren Rücken belasten. Kein Wunder also\, dass Rückenschmerzen weit verbreitet sind. Regelmäßige tägliche Bewegung trainiert Ihren Körper und hilft\, schmerzhaften Verspannungen und chronischen Rückenproblemen vorzubeugen. In den kostenlosen Kursen „Beweg‘ dich – Gesunder Rücken“ der Österreichischen Gesundheitskasse arbeiten Sie gezielt an Ihrer Rückengesundheit. \nGruppenkurse mit erfahrenen Trainerinnen und Trainern mit Schwerpunkt Rückengesundheit: \n\nKostenlose Bewegungskurse.\nDauer 14 Wochen.\n2 x wöchentlich eine Stunde Bewegung\nEinfache Übungen kräftigen die Rumpfmuskulatur.\nBeweglichkeitstraining hilft\, Verspannungen zu lockern oder zu lösen.\nTipps für einen rückenschonenden Alltag und Entlastung Ihre Wirbelsäule.\nDer Spaß in der Gruppe motiviert zum Weitermachen.\n\nDie Teilnahme am Kurs ist kostenlos\, eine vorherige Anmeldung ist erforderlich!\nFür alle Personen ab 18 Jahren mit leichten Rückenbeschwerden oder Risikofaktoren für Rückenprobleme. Nicht teilnehmen können Personen mit akutem medizinisch/therapeutischen Behandlungsbedarf. \nWerden Sie aktiv und machen Sie mit – Ihr Rücken dankt es Ihnen! \nAnmeldung und Informationen auf www.gesundheitskasse.at/ruecken \n 
URL:https://www.brunnamgebirge.at/veranstaltung/beweg-dich-gesunder-ruecken-2/2025-03-27/
LOCATION:Sozialzentrum\, Friedrich Schiller-Straße 24-26\, Brunn am Gebirge\, Niederösterreich\, 2345\, Österreich
CATEGORIES:Privat
ATTACH;FMTTYPE=image/jpeg:https://www.brunnamgebirge.at/wp-content/uploads/2025/01/Beweg_dich_Gesunder_Ruecken.jpg
ORGANIZER;CN="%C3%96sterreichische%20Gesundheitskasse%20%28%C3%96GK%29":MAILTO:moedling@oegk.at
END:VEVENT
BEGIN:VEVENT
DTSTART;TZID=Europe/Berlin:20250327T190000
DTEND;TZID=Europe/Berlin:20250327T220000
DTSTAMP:20260422T183925
CREATED:20250211T122341Z
LAST-MODIFIED:20250211T122341Z
UID:10002737-1743102000-1743112800@www.brunnamgebirge.at
SUMMARY:Gemeinderatssitzung
DESCRIPTION:Alle Brunnerinnen und Brunner sind herzlich zur Teilnahme am öffentlichen Teil eingeladen. Die jeweiligen Tagesordnungen finden Sie zeitgerecht auf der digitalen Amtstafel.
URL:https://www.brunnamgebirge.at/veranstaltung/gemeinderatssitzung/
LOCATION:BRUNO-Festsaal\, Franz Weiss-Platz 7\, Brunn am Gebirge\, Niederösterreich\, 2345\, Österreich
CATEGORIES:Gemeinde
ATTACH;FMTTYPE=image/jpeg:https://www.brunnamgebirge.at/wp-content/uploads/2019/06/BRUNO-Festsaal.jpg
END:VEVENT
END:VCALENDAR